BEGIN:VCALENDAR
VERSION:2.0
PRODID:-//Oklahoma Housing Finance Agency - ECPv6.15.19//NONSGML v1.0//EN
CALSCALE:GREGORIAN
METHOD:PUBLISH
X-ORIGINAL-URL:https://www.ohfa.org
X-WR-CALDESC:Events for Oklahoma Housing Finance Agency
REFRESH-INTERVAL;VALUE=DURATION:PT1H
X-Robots-Tag:noindex
X-PUBLISHED-TTL:PT1H
BEGIN:VTIMEZONE
TZID:America/Chicago
BEGIN:DAYLIGHT
TZOFFSETFROM:-0600
TZOFFSETTO:-0500
TZNAME:CDT
DTSTART:20230312T080000
END:DAYLIGHT
BEGIN:STANDARD
TZOFFSETFROM:-0500
TZOFFSETTO:-0600
TZNAME:CST
DTSTART:20231105T070000
END:STANDARD
BEGIN:DAYLIGHT
TZOFFSETFROM:-0600
TZOFFSETTO:-0500
TZNAME:CDT
DTSTART:20240310T080000
END:DAYLIGHT
BEGIN:STANDARD
TZOFFSETFROM:-0500
TZOFFSETTO:-0600
TZNAME:CST
DTSTART:20241103T070000
END:STANDARD
BEGIN:DAYLIGHT
TZOFFSETFROM:-0600
TZOFFSETTO:-0500
TZNAME:CDT
DTSTART:20250309T080000
END:DAYLIGHT
BEGIN:STANDARD
TZOFFSETFROM:-0500
TZOFFSETTO:-0600
TZNAME:CST
DTSTART:20251102T070000
END:STANDARD
END:VTIMEZONE
BEGIN:VEVENT
DTSTART;TZID=America/Chicago:20240606T080000
DTEND;TZID=America/Chicago:20240606T133000
DTSTAMP:20260421T152840
CREATED:20240528T185950Z
LAST-MODIFIED:20240530T203039Z
UID:21449-1717660800-1717680600@www.ohfa.org
SUMMARY:Offices Open at 1:30 p.m.
DESCRIPTION:OHFA’s offices will open at 1:30 p.m. Staff members will be in training the morning of June 6. Housing Choice Voucher employees will also be unavailable in the afternoon.
URL:https://www.ohfa.org/event/offices-open-130/
LOCATION:OK
ATTACH;FMTTYPE=image/png:https://www.ohfa.org/wp-content/uploads/2024/05/training.png
END:VEVENT
BEGIN:VEVENT
DTSTART;TZID=America/Chicago:20240613T130000
DTEND;TZID=America/Chicago:20240613T150000
DTSTAMP:20260421T152840
CREATED:20231221T150008Z
LAST-MODIFIED:20231221T150008Z
UID:20750-1718283600-1718290800@www.ohfa.org
SUMMARY:Blue Ribbon Realtors Continuing Education Class
DESCRIPTION:In this course\, we’ll share how down payment and/or closing cost assistance makes buying a home more affordable to both first-time and repeat buyers across the state. This course is approved for two hours of continuing education credit as a finance elective with the Oklahoma Real Estate Commission. \nEach session is limited to 35 attendees. Register today! \nUpon completion\, you will be an OHFA Blue Ribbon Realtor. Your name\, company name\, and contact information will be placed on the OHFA website in a searchable database. This listing highlights your knowledge of down payment assistance products. \nIn 2024\, OHFA will host this class March 14\, June 13\, September 12\, and December 4. \nReserve your free seat
URL:https://www.ohfa.org/event/blue-ribbon-realtors-continuing-education-class-2/
LOCATION:Oklahoma Housing Finance Agency East and West Board Room\, 100 NW 63rd\, Oklahoma City\, OK\, 73116\, United States
CATEGORIES:Blue Ribbon Agent Training
ATTACH;FMTTYPE=image/png:https://www.ohfa.org/wp-content/uploads/2023/03/BRR-class.png
END:VEVENT
BEGIN:VEVENT
DTSTART;TZID=America/Chicago:20240619T140000
DTEND;TZID=America/Chicago:20240619T153000
DTSTAMP:20260421T152840
CREATED:20240516T163944Z
LAST-MODIFIED:20240516T164047Z
UID:21422-1718805600-1718811000@www.ohfa.org
SUMMARY:Oklahoma Housing Stability Program Application Training
DESCRIPTION:Join us for an overview of the Oklahoma Housing Stability Program. We will be providing in-depth instruction and best practices for applying for the $215 million Oklahoma Housing Stability Program. \nThis event will be held via Zoom.
URL:https://www.ohfa.org/event/oklahoma-housing-stability-program-application-training/
LOCATION:Webinar
CATEGORIES:Housing Stability Program,Training
ATTACH;FMTTYPE=image/png:https://www.ohfa.org/wp-content/uploads/2023/03/webinar-1.png
END:VEVENT
END:VCALENDAR