BEGIN:VCALENDAR
VERSION:2.0
PRODID:-//Oklahoma Housing Finance Agency - ECPv6.15.19//NONSGML v1.0//EN
CALSCALE:GREGORIAN
METHOD:PUBLISH
X-ORIGINAL-URL:https://www.ohfa.org
X-WR-CALDESC:Events for Oklahoma Housing Finance Agency
REFRESH-INTERVAL;VALUE=DURATION:PT1H
X-Robots-Tag:noindex
X-PUBLISHED-TTL:PT1H
BEGIN:VTIMEZONE
TZID:America/Chicago
BEGIN:DAYLIGHT
TZOFFSETFROM:-0600
TZOFFSETTO:-0500
TZNAME:CDT
DTSTART:20220313T080000
END:DAYLIGHT
BEGIN:STANDARD
TZOFFSETFROM:-0500
TZOFFSETTO:-0600
TZNAME:CST
DTSTART:20221106T070000
END:STANDARD
BEGIN:DAYLIGHT
TZOFFSETFROM:-0600
TZOFFSETTO:-0500
TZNAME:CDT
DTSTART:20230312T080000
END:DAYLIGHT
BEGIN:STANDARD
TZOFFSETFROM:-0500
TZOFFSETTO:-0600
TZNAME:CST
DTSTART:20231105T070000
END:STANDARD
BEGIN:DAYLIGHT
TZOFFSETFROM:-0600
TZOFFSETTO:-0500
TZNAME:CDT
DTSTART:20240310T080000
END:DAYLIGHT
BEGIN:STANDARD
TZOFFSETFROM:-0500
TZOFFSETTO:-0600
TZNAME:CST
DTSTART:20241103T070000
END:STANDARD
END:VTIMEZONE
BEGIN:VEVENT
DTSTART;TZID=America/Chicago:20230406T133000
DTEND;TZID=America/Chicago:20230406T143000
DTSTAMP:20260421T064255
CREATED:20230313T193115Z
LAST-MODIFIED:20230313T194547Z
UID:19279-1680787800-1680791400@www.ohfa.org
SUMMARY:OHFA/Legal Aid Fair Housing Webinar
DESCRIPTION:Join the Oklahoma Housing Finance Agency as it hosts Legal Aid Services of Oklahoma\, Inc. Attorney Alyssa Bryant for a presentation on Fair Housing. The Fair Housing Act and its protections are fundamental to all persons residing in the United States. Special attention and emphasis will be given to persons seeking public housing\, Section 8 vouchers\, or persons currently living in subsidized housing. \nRegister in advance to attend.
URL:https://www.ohfa.org/event/ohfa-legal-aid-fair-housing-webinar/
LOCATION:Webinar
CATEGORIES:Housing Choice Voucher,Training
ATTACH;FMTTYPE=image/png:https://www.ohfa.org/wp-content/uploads/2023/03/webinar-1.png
END:VEVENT
BEGIN:VEVENT
DTSTART;TZID=America/Chicago:20230411T103000
DTEND;TZID=America/Chicago:20230411T153000
DTSTAMP:20260421T064255
CREATED:20230404T133409Z
LAST-MODIFIED:20230404T133527Z
UID:19421-1681209000-1681227000@www.ohfa.org
SUMMARY:4th Annual Accessibility Summit - Webinar
DESCRIPTION:Day One we will hear from our keynote by Principal Deputy Assistant Secretary Demetria McCain plus training on Section 504 & ADA  by Larry Fleming and Fair Housing Accessibility Training by Scott Moore. \nDay Two features Five separate panel discussions presented by highly regarded professionals in the affordable housing industry on topics including: \nAccessibility Best Practices and Compliance Requirements in the LIHTC Program\nfeaturing Jim Tassos (NCSHA) and George Lydford (IRS) \nHFA Playbook:  Being Proactive in Requirements Associated with Program Participation\nfeaturing Gary Huggins (Georgia DCA)\, Nathan Darus (TDHCA)\, and Mark Shelburne (Novagradac). \nDiversity in Action:  Real World Examples of Success\nfeaturing Jill Cromartie (Simple Asset Management) and Ashley Northcutt (Women’s Affordable Housing Network)\, Alva George (E&A Team) \nDevelopment Playbook: Being Proactive in Design & Construction\nfeaturing Rex Pace (HUD)\, Zack Wallace (Wallace Architects) and Jason Buffkin (PPM) \nFederal Agency Updates on Accessibility\nfeaturing Kinara Flagg (DOJ) and Bill Lynch (HUD) \n$275 for both days. \nEmail helpdesk@EandATeam.com  for group discount rates.
URL:https://www.ohfa.org/event/4th-annual-accessibility-summit-webinar/
LOCATION:OK
CATEGORIES:Training
ATTACH;FMTTYPE=image/jpeg:https://www.ohfa.org/wp-content/uploads/2023/04/Demetria-McCain-Bio-1-768x768-1.jpg
END:VEVENT
BEGIN:VEVENT
DTSTART;TZID=America/Chicago:20230412T180000
DTEND;TZID=America/Chicago:20230412T200000
DTSTAMP:20260421T064255
CREATED:20230403T134712Z
LAST-MODIFIED:20230403T134712Z
UID:19415-1681322400-1681329600@www.ohfa.org
SUMMARY:Oklahoma Homeowner Assistance Fund Applicant Town Hall Webinar
DESCRIPTION:Applicants to the Oklahoma Homeowner Assistance Fund (HAF) are invited to join us for a discussion about the Oklahoma Homeowner Assistance Fund (HAF). This grant is made available through the American Rescue Plan Act. HAF provides financial assistance on behalf of homeowners who have experienced significant financial hardship due to COVID-19. \nEligible expenses to be paid with HAF funds include mortgage reinstatement\, principal reduction\, payment toward a partial claim or deferral\, delinquent real estate taxes\, restoration of homeowner’s insurance\, and delinquent Homeowners Association dues. \nThis event will take place online\, Wednesday\, April 12 beginning at 6 p.m. The discussion will be recorded so it can be available for later viewing.
URL:https://www.ohfa.org/event/oklahoma-homeowner-assistance-fund-applicant-town-hall-webinar/
LOCATION:Webinar
CATEGORIES:Homeowner Assistance Fund
ATTACH;FMTTYPE=image/jpeg:https://www.ohfa.org/wp-content/uploads/2021/07/foreclosure-haf.jpg
END:VEVENT
BEGIN:VEVENT
DTSTART;TZID=America/Chicago:20230415T110000
DTEND;TZID=America/Chicago:20230415T140000
DTSTAMP:20260421T064255
CREATED:20230321T133149Z
LAST-MODIFIED:20230321T133149Z
UID:19305-1681556400-1681567200@www.ohfa.org
SUMMARY:Workforce Community Hope Center Open House
DESCRIPTION:OHFA will be on-hand at this event telling attendees about our housing resources. \nFree hot dogs & family-friendly activities. Learn about the community partners located at the center and the neighborhood. \nHope-Filled Resources \n\nFood Pantry\nOnsite Childcare\nClothing Closet\nHousing Programs\nLegal Aid Services\nHealth & Mental Health Services\nWorkforce Services
URL:https://www.ohfa.org/event/workforce-community-hope-center-open-house/
LOCATION:Workforce Community Hope Center\, 7201 NW 10th Street\, Oklahoma City\, OK\, 73127\, United States
CATEGORIES:Community
ATTACH;FMTTYPE=image/jpeg:https://www.ohfa.org/wp-content/uploads/2023/03/hope.jpg
END:VEVENT
END:VCALENDAR