BEGIN:VCALENDAR
VERSION:2.0
PRODID:-//Oklahoma Housing Finance Agency - ECPv6.15.19//NONSGML v1.0//EN
CALSCALE:GREGORIAN
METHOD:PUBLISH
X-WR-CALNAME:Oklahoma Housing Finance Agency
X-ORIGINAL-URL:https://www.ohfa.org
X-WR-CALDESC:Events for Oklahoma Housing Finance Agency
REFRESH-INTERVAL;VALUE=DURATION:PT1H
X-Robots-Tag:noindex
X-PUBLISHED-TTL:PT1H
BEGIN:VTIMEZONE
TZID:America/Chicago
BEGIN:DAYLIGHT
TZOFFSETFROM:-0600
TZOFFSETTO:-0500
TZNAME:CDT
DTSTART:20220313T080000
END:DAYLIGHT
BEGIN:STANDARD
TZOFFSETFROM:-0500
TZOFFSETTO:-0600
TZNAME:CST
DTSTART:20221106T070000
END:STANDARD
BEGIN:DAYLIGHT
TZOFFSETFROM:-0600
TZOFFSETTO:-0500
TZNAME:CDT
DTSTART:20230312T080000
END:DAYLIGHT
BEGIN:STANDARD
TZOFFSETFROM:-0500
TZOFFSETTO:-0600
TZNAME:CST
DTSTART:20231105T070000
END:STANDARD
BEGIN:DAYLIGHT
TZOFFSETFROM:-0600
TZOFFSETTO:-0500
TZNAME:CDT
DTSTART:20240310T080000
END:DAYLIGHT
BEGIN:STANDARD
TZOFFSETFROM:-0500
TZOFFSETTO:-0600
TZNAME:CST
DTSTART:20241103T070000
END:STANDARD
END:VTIMEZONE
BEGIN:VEVENT
DTSTART;TZID=America/Chicago:20230304T090000
DTEND;TZID=America/Chicago:20230304T120000
DTSTAMP:20260421T045527
CREATED:20230221T173757Z
LAST-MODIFIED:20230221T173900Z
UID:19148-1677920400-1677931200@www.ohfa.org
SUMMARY:Homebuyer Readiness Event - Oklahoma City
DESCRIPTION:  \n \nJoin us for a free Homebuyer Readiness Event. Open to everyone! \nAt this event\, hosted by AMC Mortgage and BLOC Real Estate Group\, we will show you how to buy a home using OHFA’s down payment and closing cost assistance. \nKids Activity Zone \nFree Breakfast beginning at 9 a.m. \nRaffle Prize Drawings \n  \nCall or text Pablo with questions: 405-593-0611
URL:https://www.ohfa.org/event/homebuyer-readiness-event-oklahoma-city-2/
LOCATION:Metro Tech Auditorium\, 1900 Springlake Dr\, Oklahoma City\, OK\, 73111\, United States
CATEGORIES:Community,Single Family
ATTACH;FMTTYPE=image/png:https://www.ohfa.org/wp-content/uploads/2023/02/homebuyer-class.png
END:VEVENT
BEGIN:VEVENT
DTSTART;TZID=America/Chicago:20230318T093000
DTEND;TZID=America/Chicago:20230318T113000
DTSTAMP:20260421T045527
CREATED:20230213T171635Z
LAST-MODIFIED:20230213T171635Z
UID:19129-1679131800-1679139000@www.ohfa.org
SUMMARY:Homebuyer Readiness Event - Tulsa
DESCRIPTION:Evento de preparación para compradores de vivienda – Español \nTulsa Homebuyer Readiness Event Information \nJoin us for a free Homebuyer Readiness Event. Open to everyone! \nAt this event\, hosted by AMC Mortgage and Keller Williams Oklahoma Region\, we will show you how to buy a home using OHFA’s down payment and closing cost assistance. \nKids Activity Zone \nFree Breakfast beginning at 9 a.m. \nRaffle Prize Drawings \n  \nCall or text Roz with questions: 918-640-0747 \n 
URL:https://www.ohfa.org/event/homebuyer-readiness-event-tulsa-2/
LOCATION:Antioch Baptist Church\, 110 W 56th St\, Tulsa\, OK\, 74126\, United States
CATEGORIES:Single Family
ATTACH;FMTTYPE=image/png:https://www.ohfa.org/wp-content/uploads/2023/02/homebuyer-class.png
END:VEVENT
BEGIN:VEVENT
DTSTART;TZID=America/Chicago:20230322T100000
DTEND;TZID=America/Chicago:20230322T120000
DTSTAMP:20260421T045527
CREATED:20221117T161346Z
LAST-MODIFIED:20230321T143256Z
UID:18710-1679479200-1679486400@www.ohfa.org
SUMMARY:Board of Trustees Meeting
DESCRIPTION:March 22\, 2023 meeting of the OHFA Board of Trustees \nMarch 22 Agenda and Exhibits (Amended)
URL:https://www.ohfa.org/event/board-of-trustees-meeting-14/
LOCATION:Holiday Inn & Suites\, 6200 N. Robinson.\, Oklahoma City\, OK\, 73118\, United States
CATEGORIES:Trustees
ATTACH;FMTTYPE=image/png:https://www.ohfa.org/wp-content/uploads/2020/11/board-meeting.png
END:VEVENT
BEGIN:VEVENT
DTSTART;TZID=America/Chicago:20230328T083000
DTEND;TZID=America/Chicago:20230329T163000
DTSTAMP:20260421T045527
CREATED:20230118T152005Z
LAST-MODIFIED:20230213T195550Z
UID:18998-1679992200-1680107400@www.ohfa.org
SUMMARY:LIHTC Spring Training
DESCRIPTION:Affordable Housing Providers of Oklahoma has contracted with US Housing Consultants\, Inc.\, featuring Gary Kirkman\, Director of Compliance Training\, to co-sponsor with Oklahoma Housing Finance Agency two RD/LIHTC classes and the HCCP (Housing Credit Certified Professional) Certification program for affordable housing providers/managers/staff. \nWhen: Tuesday\, March 28th\, 2023\nManaging RD/LIHTC Compliance Workshop $75 AHPOK Members\n*$275 for Non- AHPOK Members\nWednesday\, March 29\, 2023\nLIHTC Advanced Compliance Workshop $75 AHPOK Members\n*$275 for Non-AHPOK Members\nThe test will be given online at a later date. \nWhere: Francis Tuttle Technology Center – Rockwell Campus\nCampus Center\, Zone A\, Room A 1011\n12777 N. Rockwell Avenue\nOklahoma City\, OK 73142 \nRegistration Form and More Information
URL:https://www.ohfa.org/event/lihtc-spring-training/
LOCATION:Francis Tuttle Technology Center – Rockwell Campus\, 12777 N. Rockwell Ave.\, Oklahoma City\, OK\, 73142\, United States
CATEGORIES:Affordable Housing Tax Credits,Training
ATTACH;FMTTYPE=image/png:https://www.ohfa.org/wp-content/uploads/2023/01/workshop.png
ORGANIZER;CN="AFFORDABLE HOUSING PROVIDERS OF OKLAHOMA":MAILTO:office.ahpok@gmail.com
END:VEVENT
BEGIN:VEVENT
DTSTART;TZID=America/Chicago:20230330T133000
DTEND;TZID=America/Chicago:20230330T160000
DTSTAMP:20260421T045527
CREATED:20230216T184404Z
LAST-MODIFIED:20230302T170611Z
UID:19144-1680183000-1680192000@www.ohfa.org
SUMMARY:HOME/National Housing Trust Fund Application Training
DESCRIPTION:Join us as we discuss the HOME Investment Partnerships Program and National Housing Trust Fund Program applications. Training will be held both in-person and online. Please register in advance. \nAll registrants will be sent Zoom credentials. \nIn-person Venue:\nHoliday Inn and Suites\n6200 N. Robinson\nOklahoma City\, OK 73118
URL:https://www.ohfa.org/event/home-national-housing-trust-fund-application-training/
LOCATION:Holiday Inn & Suites\, 6200 N. Robinson.\, Oklahoma City\, OK\, 73118\, United States
CATEGORIES:Housing Development,Training
ATTACH;FMTTYPE=image/jpeg:https://www.ohfa.org/wp-content/uploads/2021/03/training.jpg
END:VEVENT
END:VCALENDAR