BEGIN:VCALENDAR
VERSION:2.0
PRODID:-//Oklahoma Housing Finance Agency - ECPv6.15.20//NONSGML v1.0//EN
CALSCALE:GREGORIAN
METHOD:PUBLISH
X-ORIGINAL-URL:https://www.ohfa.org
X-WR-CALDESC:Events for Oklahoma Housing Finance Agency
REFRESH-INTERVAL;VALUE=DURATION:PT1H
X-Robots-Tag:noindex
X-PUBLISHED-TTL:PT1H
BEGIN:VTIMEZONE
TZID:America/Chicago
BEGIN:DAYLIGHT
TZOFFSETFROM:-0600
TZOFFSETTO:-0500
TZNAME:CDT
DTSTART:20250309T080000
END:DAYLIGHT
BEGIN:STANDARD
TZOFFSETFROM:-0500
TZOFFSETTO:-0600
TZNAME:CST
DTSTART:20251102T070000
END:STANDARD
BEGIN:DAYLIGHT
TZOFFSETFROM:-0600
TZOFFSETTO:-0500
TZNAME:CDT
DTSTART:20260308T080000
END:DAYLIGHT
BEGIN:STANDARD
TZOFFSETFROM:-0500
TZOFFSETTO:-0600
TZNAME:CST
DTSTART:20261101T070000
END:STANDARD
BEGIN:DAYLIGHT
TZOFFSETFROM:-0600
TZOFFSETTO:-0500
TZNAME:CDT
DTSTART:20270314T080000
END:DAYLIGHT
BEGIN:STANDARD
TZOFFSETFROM:-0500
TZOFFSETTO:-0600
TZNAME:CST
DTSTART:20271107T070000
END:STANDARD
END:VTIMEZONE
BEGIN:VEVENT
DTSTART;TZID=America/Chicago:20260805T083000
DTEND;TZID=America/Chicago:20260805T120000
DTSTAMP:20260422T084237
CREATED:20260410T154559Z
LAST-MODIFIED:20260410T155947Z
UID:24445-1785918600-1785931200@www.ohfa.org
SUMMARY:Housing Choice Voucher Landlord Workshop - OKC
DESCRIPTION:
URL:https://www.ohfa.org/event/housing-choice-voucher-landlord-workshop-4/
LOCATION:Metro Tech Auditorium\, 1900 Springlake Dr\, Oklahoma City\, OK\, 73111\, United States
CATEGORIES:Housing Choice Voucher,Training
ATTACH;FMTTYPE=image/png:https://www.ohfa.org/wp-content/uploads/2025/07/Landlord-Workshops-1.png
END:VEVENT
BEGIN:VEVENT
DTSTART;TZID=America/Chicago:20260819T083000
DTEND;TZID=America/Chicago:20260819T120000
DTSTAMP:20260422T084237
CREATED:20260330T173622Z
LAST-MODIFIED:20260410T155927Z
UID:24422-1787128200-1787140800@www.ohfa.org
SUMMARY:Housing Choice Voucher Landlord Workshop - Lawton
DESCRIPTION:
URL:https://www.ohfa.org/event/housing-choice-voucher-landlord-workshop-3/
LOCATION:Cameron University Shepler Center Ballroom\, 2800 Gore Blvd.\, Lawton\, OK\, United States
CATEGORIES:Housing Choice Voucher
ATTACH;FMTTYPE=image/png:https://www.ohfa.org/wp-content/uploads/2025/07/Landlord-Workshops-1.png
END:VEVENT
BEGIN:VEVENT
DTSTART;TZID=America/Chicago:20260819T093000
DTEND;TZID=America/Chicago:20260819T103000
DTSTAMP:20260422T084237
CREATED:20260114T202753Z
LAST-MODIFIED:20260203T214514Z
UID:23976-1787131800-1787135400@www.ohfa.org
SUMMARY:OHFA Employee Medicare 101 Workshop
DESCRIPTION:Content is protected.
URL:https://www.ohfa.org/event/ohfa-employee-medicare-101-workshop/
LOCATION:Oklahoma Housing Finance Agency East and West Board Room\, 100 NW 63rd\, Oklahoma City\, OK\, 73116\, United States
CATEGORIES:medicare
END:VEVENT
BEGIN:VEVENT
DTSTART;TZID=America/Chicago:20260819T140000
DTEND;TZID=America/Chicago:20260819T150000
DTSTAMP:20260422T084237
CREATED:20260126T194612Z
LAST-MODIFIED:20260203T214640Z
UID:24019-1787148000-1787151600@www.ohfa.org
SUMMARY:OHFA Employee Medicare 101 Workshop
DESCRIPTION:Content is protected.
URL:https://www.ohfa.org/event/ohfa-employee-medicare-101-workshop-3/
LOCATION:Oklahoma Housing Finance Agency East and West Board Room\, 100 NW 63rd\, Oklahoma City\, OK\, 73116\, United States
CATEGORIES:medicare
END:VEVENT
BEGIN:VEVENT
DTSTART;TZID=America/Chicago:20260902T083000
DTEND;TZID=America/Chicago:20260902T120000
DTSTAMP:20260422T084237
CREATED:20260330T173437Z
LAST-MODIFIED:20260410T160015Z
UID:24421-1788337800-1788350400@www.ohfa.org
SUMMARY:Housing Choice Voucher Landlord Workshop - Tulsa
DESCRIPTION:
URL:https://www.ohfa.org/event/housing-choice-voucher-landlord-workshop-2/
LOCATION:Tulsa Tech Riverside Campus Auditorium (Room RS-A150)\, 801 E. 91st St.\, Tulsa\, OK\, United States
CATEGORIES:Housing Choice Voucher
ATTACH;FMTTYPE=image/png:https://www.ohfa.org/wp-content/uploads/2025/07/Landlord-Workshops-1.png
END:VEVENT
BEGIN:VEVENT
DTSTART;VALUE=DATE:20260907
DTEND;VALUE=DATE:20260908
DTSTAMP:20260422T084237
CREATED:20251202T230123Z
LAST-MODIFIED:20251202T230123Z
UID:23736-1788739200-1788825599@www.ohfa.org
SUMMARY:Labor Day
DESCRIPTION:Office Closed
URL:https://www.ohfa.org/event/labor-day-2/
LOCATION:OK
CATEGORIES:Holidays
ATTACH;FMTTYPE=image/jpeg:https://www.ohfa.org/wp-content/uploads/2021/10/AdobeStock_358355251-scaled.jpeg
END:VEVENT
BEGIN:VEVENT
DTSTART;TZID=America/Chicago:20260923T100000
DTEND;TZID=America/Chicago:20260923T120000
DTSTAMP:20260422T084237
CREATED:20251201T192659Z
LAST-MODIFIED:20251201T192659Z
UID:23722-1790157600-1790164800@www.ohfa.org
SUMMARY:September 2026 Board of Trustees Meeting
DESCRIPTION:Agenda and exhibits will be posted one week prior to the meeting.
URL:https://www.ohfa.org/event/september-2026-board-of-trustees-meeting/
LOCATION:OK
CATEGORIES:Trustees
ATTACH;FMTTYPE=image/jpeg:https://www.ohfa.org/wp-content/uploads/2023/07/OHFA-Building.jpg
END:VEVENT
BEGIN:VEVENT
DTSTART;TZID=America/Chicago:20261015T130000
DTEND;TZID=America/Chicago:20261015T150000
DTSTAMP:20260422T084237
CREATED:20251222T212023Z
LAST-MODIFIED:20251222T212023Z
UID:23856-1792069200-1792076400@www.ohfa.org
SUMMARY:Blue Ribbon Agent Training
DESCRIPTION:Oklahoma real estate professionals who complete OHFA’s free Oklahoma Real Estate Commission course earn the OHFA Blue Ribbon Agent designation.
URL:https://www.ohfa.org/event/blue-ribbon-agent-training-4/
LOCATION:Oklahoma Housing Finance Agency East and West Board Room\, 100 NW 63rd\, Oklahoma City\, OK\, 73116\, United States
CATEGORIES:Blue Ribbon Agent Training
ATTACH;FMTTYPE=image/png:https://www.ohfa.org/wp-content/uploads/2024/12/brr-training-series-2-1.png
END:VEVENT
BEGIN:VEVENT
DTSTART;VALUE=DATE:20261111
DTEND;VALUE=DATE:20261112
DTSTAMP:20260422T084237
CREATED:20251202T230218Z
LAST-MODIFIED:20251202T230218Z
UID:23737-1794355200-1794441599@www.ohfa.org
SUMMARY:Veterans Day
DESCRIPTION:Office Closed
URL:https://www.ohfa.org/event/veterans-day-2/
LOCATION:OK
CATEGORIES:Holidays
END:VEVENT
BEGIN:VEVENT
DTSTART;TZID=America/Chicago:20261118T100000
DTEND;TZID=America/Chicago:20261118T120000
DTSTAMP:20260422T084237
CREATED:20251201T192825Z
LAST-MODIFIED:20251201T192825Z
UID:23723-1794996000-1795003200@www.ohfa.org
SUMMARY:November 2026 Board of Trustees Meeting (Quarterly)
DESCRIPTION:Agenda and exhibits will be posted one week prior to the meeting.
URL:https://www.ohfa.org/event/november-2026-board-of-trustees-meeting-quarterly/
LOCATION:OK
CATEGORIES:Trustees
ATTACH;FMTTYPE=image/jpeg:https://www.ohfa.org/wp-content/uploads/2023/07/OHFA-Building.jpg
END:VEVENT
BEGIN:VEVENT
DTSTART;TZID=America/Chicago:20261125T120000
DTEND;TZID=America/Chicago:20261127T170000
DTSTAMP:20260422T084237
CREATED:20251202T230346Z
LAST-MODIFIED:20251202T230346Z
UID:23738-1795608000-1795798800@www.ohfa.org
SUMMARY:Thanksgiving
DESCRIPTION:Offices will close at noon on Wednesday and be closed through Friday
URL:https://www.ohfa.org/event/thanksgiving-2/
LOCATION:OK
CATEGORIES:Holidays
ATTACH;FMTTYPE=image/png:https://www.ohfa.org/wp-content/uploads/2021/03/thanksgiving.png
END:VEVENT
BEGIN:VEVENT
DTSTART;VALUE=DATE:20261224
DTEND;VALUE=DATE:20261226
DTSTAMP:20260422T084237
CREATED:20251202T230507Z
LAST-MODIFIED:20251202T230507Z
UID:23739-1798070400-1798243199@www.ohfa.org
SUMMARY:Christmas
DESCRIPTION:offices closed
URL:https://www.ohfa.org/event/christmas/
LOCATION:OK
CATEGORIES:Holidays
ATTACH;FMTTYPE=image/png:https://www.ohfa.org/wp-content/uploads/2021/03/Christmas.png
END:VEVENT
END:VCALENDAR