BEGIN:VCALENDAR
VERSION:2.0
PRODID:-//Oklahoma Housing Finance Agency - ECPv6.15.20//NONSGML v1.0//EN
CALSCALE:GREGORIAN
METHOD:PUBLISH
X-WR-CALNAME:Oklahoma Housing Finance Agency
X-ORIGINAL-URL:https://www.ohfa.org
X-WR-CALDESC:Events for Oklahoma Housing Finance Agency
REFRESH-INTERVAL;VALUE=DURATION:PT1H
X-Robots-Tag:noindex
X-PUBLISHED-TTL:PT1H
BEGIN:VTIMEZONE
TZID:America/Chicago
BEGIN:DAYLIGHT
TZOFFSETFROM:-0600
TZOFFSETTO:-0500
TZNAME:CDT
DTSTART:20240310T080000
END:DAYLIGHT
BEGIN:STANDARD
TZOFFSETFROM:-0500
TZOFFSETTO:-0600
TZNAME:CST
DTSTART:20241103T070000
END:STANDARD
BEGIN:DAYLIGHT
TZOFFSETFROM:-0600
TZOFFSETTO:-0500
TZNAME:CDT
DTSTART:20250309T080000
END:DAYLIGHT
BEGIN:STANDARD
TZOFFSETFROM:-0500
TZOFFSETTO:-0600
TZNAME:CST
DTSTART:20251102T070000
END:STANDARD
BEGIN:DAYLIGHT
TZOFFSETFROM:-0600
TZOFFSETTO:-0500
TZNAME:CDT
DTSTART:20260308T080000
END:DAYLIGHT
BEGIN:STANDARD
TZOFFSETFROM:-0500
TZOFFSETTO:-0600
TZNAME:CST
DTSTART:20261101T070000
END:STANDARD
END:VTIMEZONE
BEGIN:VEVENT
DTSTART;TZID=America/Chicago:20251119T100000
DTEND;TZID=America/Chicago:20251119T100000
DTSTAMP:20260422T081923
CREATED:20241120T234040Z
LAST-MODIFIED:20251118T153704Z
UID:22124-1763546400-1763546400@www.ohfa.org
SUMMARY:Board of Trustees Meeting (Quarterly)
DESCRIPTION:Wednesday\, November 19 (Quarterly) Agenda & Exhibits – Amended
URL:https://www.ohfa.org/event/november2025-trustees/
LOCATION:OK
CATEGORIES:Trustees
ATTACH;FMTTYPE=image/png:https://www.ohfa.org/wp-content/uploads/2023/11/boardmeeting.png
END:VEVENT
END:VCALENDAR