BEGIN:VCALENDAR
VERSION:2.0
PRODID:-//Oklahoma Housing Finance Agency - ECPv6.15.19//NONSGML v1.0//EN
CALSCALE:GREGORIAN
METHOD:PUBLISH
X-WR-CALNAME:Oklahoma Housing Finance Agency
X-ORIGINAL-URL:https://www.ohfa.org
X-WR-CALDESC:Events for Oklahoma Housing Finance Agency
REFRESH-INTERVAL;VALUE=DURATION:PT1H
X-Robots-Tag:noindex
X-PUBLISHED-TTL:PT1H
BEGIN:VTIMEZONE
TZID:America/Chicago
BEGIN:DAYLIGHT
TZOFFSETFROM:-0600
TZOFFSETTO:-0500
TZNAME:CDT
DTSTART:20240310T080000
END:DAYLIGHT
BEGIN:STANDARD
TZOFFSETFROM:-0500
TZOFFSETTO:-0600
TZNAME:CST
DTSTART:20241103T070000
END:STANDARD
BEGIN:DAYLIGHT
TZOFFSETFROM:-0600
TZOFFSETTO:-0500
TZNAME:CDT
DTSTART:20250309T080000
END:DAYLIGHT
BEGIN:STANDARD
TZOFFSETFROM:-0500
TZOFFSETTO:-0600
TZNAME:CST
DTSTART:20251102T070000
END:STANDARD
BEGIN:DAYLIGHT
TZOFFSETFROM:-0600
TZOFFSETTO:-0500
TZNAME:CDT
DTSTART:20260308T080000
END:DAYLIGHT
BEGIN:STANDARD
TZOFFSETFROM:-0500
TZOFFSETTO:-0600
TZNAME:CST
DTSTART:20261101T070000
END:STANDARD
END:VTIMEZONE
BEGIN:VEVENT
DTSTART;TZID=America/Chicago:20251210T100000
DTEND;TZID=America/Chicago:20251210T110000
DTSTAMP:20260419T080958
CREATED:20251120T223645Z
LAST-MODIFIED:20251125T144416Z
UID:23681-1765360800-1765364400@www.ohfa.org
SUMMARY:Oklahoma Housing Stability Program Applicant Input Session
DESCRIPTION:Oklahoma Housing Stability Program loans continue to spur the development of both for-sale homes and rental developments in communities all across the state. \nWe are seeking input from applicants regarding the application process and other program requirements. \nThe input session will be held at the OHFA offices. \nWednesday\, December 10 at 10 a.m.\nOklahoma Housing Finance Agency\n100 N.W. 63rd Street\nOklahoma City\, OK 73116 \nTo view a red-line version of the current application and to see application deadlines\, visit the OHFA website. \nFor more information or to provide input prior to this meeting\, contact: \nEli Vargas\, HSP Administrator\neliezer.vargas@ohfa.org\n(405) 419-8201
URL:https://www.ohfa.org/event/oklahoma-housing-stability-program-applicant-input-session-2026/
LOCATION:Oklahoma Housing Finance Agency East and West Board Room\, 100 NW 63rd\, Oklahoma City\, OK\, 73116\, United States
CATEGORIES:Housing Stability Program
ATTACH;FMTTYPE=image/png:https://www.ohfa.org/wp-content/uploads/2024/housing-stability-training-1.png
END:VEVENT
END:VCALENDAR