BEGIN:VCALENDAR
VERSION:2.0
PRODID:-//Oklahoma Housing Finance Agency - ECPv6.15.20//NONSGML v1.0//EN
CALSCALE:GREGORIAN
METHOD:PUBLISH
X-WR-CALNAME:Oklahoma Housing Finance Agency
X-ORIGINAL-URL:https://www.ohfa.org
X-WR-CALDESC:Events for Oklahoma Housing Finance Agency
REFRESH-INTERVAL;VALUE=DURATION:PT1H
X-Robots-Tag:noindex
X-PUBLISHED-TTL:PT1H
BEGIN:VTIMEZONE
TZID:America/Chicago
BEGIN:DAYLIGHT
TZOFFSETFROM:-0600
TZOFFSETTO:-0500
TZNAME:CDT
DTSTART:20200308T080000
END:DAYLIGHT
BEGIN:STANDARD
TZOFFSETFROM:-0500
TZOFFSETTO:-0600
TZNAME:CST
DTSTART:20201101T070000
END:STANDARD
BEGIN:DAYLIGHT
TZOFFSETFROM:-0600
TZOFFSETTO:-0500
TZNAME:CDT
DTSTART:20210314T080000
END:DAYLIGHT
BEGIN:STANDARD
TZOFFSETFROM:-0500
TZOFFSETTO:-0600
TZNAME:CST
DTSTART:20211107T070000
END:STANDARD
BEGIN:DAYLIGHT
TZOFFSETFROM:-0600
TZOFFSETTO:-0500
TZNAME:CDT
DTSTART:20220313T080000
END:DAYLIGHT
BEGIN:STANDARD
TZOFFSETFROM:-0500
TZOFFSETTO:-0600
TZNAME:CST
DTSTART:20221106T070000
END:STANDARD
BEGIN:DAYLIGHT
TZOFFSETFROM:-0600
TZOFFSETTO:-0500
TZNAME:CDT
DTSTART:20230312T080000
END:DAYLIGHT
BEGIN:STANDARD
TZOFFSETFROM:-0500
TZOFFSETTO:-0600
TZNAME:CST
DTSTART:20231105T070000
END:STANDARD
BEGIN:DAYLIGHT
TZOFFSETFROM:-0600
TZOFFSETTO:-0500
TZNAME:CDT
DTSTART:20240310T080000
END:DAYLIGHT
BEGIN:STANDARD
TZOFFSETFROM:-0500
TZOFFSETTO:-0600
TZNAME:CST
DTSTART:20241103T070000
END:STANDARD
BEGIN:DAYLIGHT
TZOFFSETFROM:-0600
TZOFFSETTO:-0500
TZNAME:CDT
DTSTART:20250309T080000
END:DAYLIGHT
BEGIN:STANDARD
TZOFFSETFROM:-0500
TZOFFSETTO:-0600
TZNAME:CST
DTSTART:20251102T070000
END:STANDARD
BEGIN:DAYLIGHT
TZOFFSETFROM:-0600
TZOFFSETTO:-0500
TZNAME:CDT
DTSTART:20260308T080000
END:DAYLIGHT
BEGIN:STANDARD
TZOFFSETFROM:-0500
TZOFFSETTO:-0600
TZNAME:CST
DTSTART:20261101T070000
END:STANDARD
BEGIN:DAYLIGHT
TZOFFSETFROM:-0600
TZOFFSETTO:-0500
TZNAME:CDT
DTSTART:20270314T080000
END:DAYLIGHT
BEGIN:STANDARD
TZOFFSETFROM:-0500
TZOFFSETTO:-0600
TZNAME:CST
DTSTART:20271107T070000
END:STANDARD
END:VTIMEZONE
BEGIN:VEVENT
DTSTART;TZID=America/Chicago:20260204T080000
DTEND;TZID=America/Chicago:20260204T100000
DTSTAMP:20260422T121532
CREATED:20260120T224838Z
LAST-MODIFIED:20260120T224838Z
UID:23995-1770192000-1770199200@www.ohfa.org
SUMMARY:Notice of Public TEFRA Hearing
DESCRIPTION:The Oklahoma Housing Finance Agency (“OHFA”) is empowered under the Oklahoma Public Trust Act\, Title 60 Oklahoma Statutes 2021\, Sections 176 et seq.\, as amended\, and pursuant to the Trust Indenture dated as of May 1\, 1975 (as amended and restated)\, to issue mortgage revenue bonds for the purpose of funding single family home mortgage loans and homebuyers’ assistance to eligible borrowers of low and moderate income purchasing eligible residences within Oklahoma (the “State”). \nOHFA is considering the issuance pursuant to a common plan of finance of not to exceed $500\,000\,000 in aggregate principal amount of tax-exempt mortgage revenue bonds\, notes or similar forms of indebtedness (the “Bonds”) as a part of its 2026 single family housing loan program (the “Program”). Under the Program\, OHFA issues bonds for the purpose of making funds available for mortgage loans and homebuyers’ assistance to eligible persons or families of low to moderate income and to refund outstanding bonds of OHFA. It is the intention of OHFA to issue the Bonds under the Program and pursuant to one or more indentures of trust\, in one or more series and as one or more issues. \nPursuant to Section 147(f) of the Internal Revenue Code\, OHFA is required to hold a public hearing regarding the issuance of the Bonds in furtherance of the Program. The public hearing will be convened on February 4\, 2026 at 8:00 a.m.\, in the OHFA Boardroom\, located at 100 NW 63rd Street\, Oklahoma City\, Oklahoma 73116\, and will be conducted by an authorized employee of OHFA. Interested members of the public are invited to attend the hearing and will be given the opportunity to ask questions or to make a brief statement regarding the proposed bond issuance and the plan of financing. Anyone desiring to make written comments can hand deliver them by no later than 5:00 p.m. on February 3\, 2026 to Oklahoma Housing Finance Agency\, 100 NW 63rd Street\, Oklahoma City\, Oklahoma 73116 and/or mail them to P.O. Box 26720\, Oklahoma City\, Oklahoma 73126\, Attention: Valenthia Doolin\, Director of Homeownership Programs.
URL:https://www.ohfa.org/event/notice-of-public-tefra-hearing/
LOCATION:Oklahoma Housing Finance Agency East and West Board Room\, 100 NW 63rd\, Oklahoma City\, OK\, 73116\, United States
CATEGORIES:Hearing,TEFRA
ATTACH;FMTTYPE=image/png:https://www.ohfa.org/wp-content/uploads/2021/06/input-.png
END:VEVENT
BEGIN:VEVENT
DTSTART;TZID=America/Chicago:20250106T100000
DTEND;TZID=America/Chicago:20250106T110000
DTSTAMP:20260422T121532
CREATED:20241227T192255Z
LAST-MODIFIED:20241227T192255Z
UID:22271-1736157600-1736161200@www.ohfa.org
SUMMARY:Single Family TEFRA Hearing
DESCRIPTION:​The Oklahoma Housing Finance Agency (“OHFA”) is empowered under the Oklahoma Public Trust Act\, Title 60 Oklahoma Statutes 2021\, Sections 176 et seq.\, as amended\, and pursuant to the Trust Indenture dated as of May 1\, 1975 (as amended and restated)\, to issue mortgage revenue bonds for the purpose of funding single family home mortgage loans and homebuyers’ assistance to eligible borrowers of low and moderate income purchasing eligible residences within Oklahoma (the “State”). \n\n​OHFA is considering the issuance pursuant to a common plan of finance of not to exceed $500\,000\,000 in aggregate principal amount of tax-exempt mortgage revenue bonds\, notes or similar forms of indebtedness (the “Bonds”) as a part of its 2025 single family housing loan program (the “Program”). Under the Program\, OHFA issues bonds for the purpose of making funds available for mortgage loans and homebuyers’ assistance to eligible persons or families of low to moderate income and to refund outstanding bonds of OHFA. It is the intention of OHFA to issue the Bonds under the Program and pursuant to one or more indentures of trust\, in one or more series and as one or more issues. \n\n​Pursuant to Section 147(f) of the Internal Revenue Code\,OHFA is required to hold a public hearing regarding the issuance of the Bonds in furtherance of the Program. The public hearing will be convened on January 6\, 2025 at 10:00 a.m.\, in the OHFA Boardroom\, located at 100 NW 63rd Street\, Oklahoma City\, Oklahoma 73116\, and will be conducted by an authorized employee of OHFA. Interested members of the public are invited to attend the hearing and will be given the opportunity to ask questions or to make a brief statement regarding the proposed bond issuance and the plan of financing. Anyone desiring to make written comments can hand deliver them by no later than 5:00 p.m. on January 3\, 2025 to Oklahoma Housing Finance Agency\, 100 NW 63rd Street\, Oklahoma City\, Oklahoma 73116 and/or mail them to P.O. Box 26720\, Oklahoma City\, Oklahoma 73126\, Attention: Valenthia Doolin\, Director\, Homeownership Programs. \n 
URL:https://www.ohfa.org/event/single-family-tefra-hearing/
LOCATION:Oklahoma Housing Finance Agency East and West Board Room\, 100 NW 63rd\, Oklahoma City\, OK\, 73116\, United States
CATEGORIES:Hearing,Homeownership,Single Family,TEFRA
END:VEVENT
BEGIN:VEVENT
DTSTART;TZID=America/Chicago:20221219T093000
DTEND;TZID=America/Chicago:20221219T103000
DTSTAMP:20260422T121532
CREATED:20221207T160053Z
LAST-MODIFIED:20221207T160053Z
UID:18840-1671442200-1671445800@www.ohfa.org
SUMMARY:TEFRA Hearing
DESCRIPTION:NOTICE OF PUBLIC HEARING \nThe Oklahoma Housing Finance Agency (“OHFA”) is empowered under the Oklahoma Public Trust Act\, Title 60 Oklahoma Statutes 2021\, Sections 176 et seq.\, as amended\, and pursuant to the Trust Indenture dated as of May 1\, 1975 (as amended and restated in a Second Amended Trust Indenture dated as of November 4\, 1986\, and amended and restated by the Third Amended Trust Indenture having the effective date of August 19\, 2002)\, to issue mortgage revenue bonds for the purpose of funding single family home mortgage loans and homebuyers’ assistance to eligible borrowers of low and moderate income purchasing eligible residences within Oklahoma (the “State”). \nOHFA is considering the issuance pursuant to a plan of finance of not to exceed $310\,000\,000 in aggregate principal amount of tax-exempt mortgage revenue bonds\, notes or similar forms of indebtedness (the “Bonds”) as a part of its 2023 single family housing loan program (the “Program”). The Bonds\, a portion of which may refund certain outstanding bonds of OHFA\, will be issued for the purpose of making funds available for home loans and homebuyers’ assistance to eligible persons or families of low to moderate income under the Program. It is the intention of OHFA to issue the Bonds pursuant to one or more indentures of trust\, in one or more series and as one or more issues. The Bonds\, including any remarketing or refunding thereof\, are being issued as part of a common plan of financing of OHFA. \nPursuant to Section 147(f) of the Internal Revenue Code of 1986 (the “Code”)\, OHFA will hold a hearing to be conducted by an authorized employee of OHFA. The public hearing will be convened on December 19\, 2022 at 9:30 a.m.\, in the Conference Room on the first floor of the East Tower of Oil Center Office Complex at the temporary offices of OHFA located at 2601 NW Expressway\, Oklahoma City\, Oklahoma 73112\, for the purpose of determining whether OHFA should issue not to exceed $310\,000\,000 in aggregate principal amount of Bonds in furtherance of the Program. The monies made available by reason of the issuance of the Bonds together with other available funds will be used to make mortgage loans and to provide homebuyers’ assistance to eligible low and moderate income persons and families purchasing eligible residences throughout the State. Interested members of the public are invited to attend the hearing and will be given the opportunity to ask questions or to make a brief statement regarding the proposed bond issuance and the plan of financing. At or prior to the above hearing time\, written comments may be emailed\, mailed or delivered to the attention of Valenthia Doolin of OHFA at valenthia.doolin@ohfa.org\, P.O. Box 2670\, Oklahoma City\, Oklahoma 73126-0720 to arrive prior to said hearing. \n 
URL:https://www.ohfa.org/event/tefra-hearing/
LOCATION:Oil Center 1st Floor Conference Room\, 2601 NW Expressway\, First Floor\, Oklahoma City\, 73112\, United States
CATEGORIES:Hearing,Single Family,TEFRA
ATTACH;FMTTYPE=image/jpeg:https://www.ohfa.org/wp-content/uploads/2021/05/House-white-garage.jpg
END:VEVENT
BEGIN:VEVENT
DTSTART;TZID=America/Chicago:20220214T100000
DTEND;TZID=America/Chicago:20220214T120000
DTSTAMP:20260422T121532
CREATED:20220131T201249Z
LAST-MODIFIED:20220202T231758Z
UID:17653-1644832800-1644840000@www.ohfa.org
SUMMARY:Public Hearing: Single Family
DESCRIPTION:NOTICE OF PUBLIC HEARING \n  \nThe Oklahoma Housing Finance Agency (“OHFA”) is empowered under the Oklahoma Public Trust Act\, Title 60 Oklahoma Statutes 2011\, Sections 176 et seq.\, as amended\, and pursuant to the Trust Indenture dated as of May 1\, 1975 (as amended and restated in a Second Amended Trust Indenture dated as of November 4\, 1986\, and amended and restated by the Third Amended Trust Indenture having the effective date of August 19\, 2002)\, to issue mortgage revenue bonds for the purpose of funding single family home mortgage loans and homebuyers’ assistance to eligible borrowers of low and moderate income purchasing eligible residences within Oklahoma (the “State”). \n  \nOHFA is considering the issuance of not to exceed $310\,000\,000 in aggregate principal amount of tax-exempt mortgage revenue bonds\, notes or similar forms of indebtedness (the “Bonds”) as a part of its 2022 single family housing loan program (the “Program”). The Bonds\, a portion of which may refund certain outstanding bonds of OHFA\, will be issued for the purpose of making funds available for home loans and homebuyers’ assistance to eligible persons or families of low to moderate income under the Program. It is the intention of OHFA to issue the Bonds pursuant to one or more indentures of trust\, in one or more series and as one or more issues. The Bonds\, including any remarketing or refunding thereof\, are being issued as part of a common plan of financing of OHFA. \n  \nPursuant to Section 147(f) of the Internal Revenue Code of 1986 (the “Code”)\, OHFA will hold a hearing to be conducted by an authorized employee of OHFA. The public hearing will be convened on Monday\, February 14\, 2022 at 10:00 a.m.\, in the Conference Room on the first floor of the West Tower of Oil Center Office Complex at the temporary offices of OHFA located at 2601 NW Expressway\, Oklahoma City\, Oklahoma 73112\, for the purpose of determining whether OHFA should issue not to exceed $310\,000\,000 in aggregate principal amount of Bonds in furtherance of the Program. The monies made available by reason of the issuance of the Bonds together with other available funds will be used to make mortgage loans and to provide homebuyers’ assistance to eligible low and moderate income persons and families purchasing eligible residences throughout the State. Interested members of the public are invited to attend the hearing and will be given the opportunity to ask questions or to make a brief statement regarding the proposed bond issuance. At or prior to the above hearing time\, written comments may be mailed or delivered to the attention of Lee Ann Smith of OHFA at P.O. Box 2670\, Oklahoma City\, Oklahoma 73126-0720 to arrive prior to said hearing. Telephone comments will be received prior to the hearing time by Lee Ann Smith of OHFA at (405) 419-8243. \n 
URL:https://www.ohfa.org/event/public-hearing/
LOCATION:Oil Center East Tower\, 12th Floor\, 2601 NW Expressway\, Oklahoma City\, OK\, 73112\, United States
CATEGORIES:Hearing,Single Family,TEFRA
ATTACH;FMTTYPE=image/jpeg:https://www.ohfa.org/wp-content/uploads/2021/12/rooftop.jpg
END:VEVENT
BEGIN:VEVENT
DTSTART;TZID=America/Chicago:20210927T100000
DTEND;TZID=America/Chicago:20210927T100000
DTSTAMP:20260422T121532
CREATED:20210920T173336Z
LAST-MODIFIED:20210920T173336Z
UID:17257-1632736800-1632736800@www.ohfa.org
SUMMARY:Public TEFRA Hearing
DESCRIPTION:Notice is hereby given that a public hearing will be held on behalf of the Oklahoma Housing Finance Agency (the “Issuer”) on September 27\, 2021 at 10:00 a.m.\, at Oklahoma Housing Finance Agency\, 2601 Northwest Expy\, Suite 700E\, Oklahoma City\, OK 73112.  This hearing is for the purpose of considering the approval of the issuance in one or more series of tax-exempt multi-family obligations (the “Obligations”)\, in an aggregate principal amount not to exceed $35\,000\,000\, by the Issuer\, pursuant to Title 60\, Chapter 4 and Title 63\, Chapter 40 of the Oklahoma Statutes.  If the Obligations are approved\, the proceeds will be loaned to Osage Apartments\, L.P.\, an Oklahoma limited partnership or its successors and assigns (the “Borrower”) for the purpose of financing the acquisition\, rehabilitation and equipping of a multifamily residential rental facility containing an aggregate of three hundred fifty-three (353) affordable living units located at 959 Country Club Drive\, in Tulsa\, Oklahoma in Tulsa County (collectively\, the “Project”). \nThe initial legal owner or principal user of the Project is expected to be the Borrower.  THE OBLIGATIONS SHALL NOT REPRESENT OR CONSTITUTE A DEBT OR PLEDGE OF FAITH AND CREDIT OR ANY TAXING POWER OF THE ISSUER\, THE STATE OF OKLAHOMA OR ANY POLITICAL SUBDIVISION OF THE STATE OF OKLAHOMA. \nInterested persons are invited to attend this public hearing and will be given an opportunity to express their views concerning the proposed issuance of the Obligations and the financing of the Project.  Anyone desiring to make written comments can hand deliver them to Oklahoma Housing Finance Agency\, 2601 Northwest Expy\, Suite 700E\, Oklahoma City\, OK 73112 and/or mail them to P.O. Box 26720\, Oklahoma City\, Oklahoma 73126\, Attention: Darrell Beavers\, Housing Development Director.  This notice is given pursuant to Section 147(f) of the Internal Revenue Code and the Oklahoma Open Meeting Act\, Title 25 of the Oklahoma Statutes. \nOKLAHOMA HOUSING FINANCE AGENCY
URL:https://www.ohfa.org/event/public-tefra-hearing/
LOCATION:Oil Center East Tower\, 12th Floor\, 2601 NW Expressway\, Oklahoma City\, OK\, 73112\, United States
CATEGORIES:Hearing,Housing Development,TEFRA
ATTACH;FMTTYPE=image/png:https://www.ohfa.org/wp-content/uploads/2021/03/conference.png
END:VEVENT
END:VCALENDAR