BEGIN:VCALENDAR
VERSION:2.0
PRODID:-//Oklahoma Housing Finance Agency - ECPv6.15.20//NONSGML v1.0//EN
CALSCALE:GREGORIAN
METHOD:PUBLISH
X-WR-CALNAME:Oklahoma Housing Finance Agency
X-ORIGINAL-URL:https://www.ohfa.org
X-WR-CALDESC:Events for Oklahoma Housing Finance Agency
REFRESH-INTERVAL;VALUE=DURATION:PT1H
X-Robots-Tag:noindex
X-PUBLISHED-TTL:PT1H
BEGIN:VTIMEZONE
TZID:America/Chicago
BEGIN:DAYLIGHT
TZOFFSETFROM:-0600
TZOFFSETTO:-0500
TZNAME:CDT
DTSTART:20220313T080000
END:DAYLIGHT
BEGIN:STANDARD
TZOFFSETFROM:-0500
TZOFFSETTO:-0600
TZNAME:CST
DTSTART:20221106T070000
END:STANDARD
BEGIN:DAYLIGHT
TZOFFSETFROM:-0600
TZOFFSETTO:-0500
TZNAME:CDT
DTSTART:20230312T080000
END:DAYLIGHT
BEGIN:STANDARD
TZOFFSETFROM:-0500
TZOFFSETTO:-0600
TZNAME:CST
DTSTART:20231105T070000
END:STANDARD
BEGIN:DAYLIGHT
TZOFFSETFROM:-0600
TZOFFSETTO:-0500
TZNAME:CDT
DTSTART:20240310T080000
END:DAYLIGHT
BEGIN:STANDARD
TZOFFSETFROM:-0500
TZOFFSETTO:-0600
TZNAME:CST
DTSTART:20241103T070000
END:STANDARD
BEGIN:DAYLIGHT
TZOFFSETFROM:-0600
TZOFFSETTO:-0500
TZNAME:CDT
DTSTART:20250309T080000
END:DAYLIGHT
BEGIN:STANDARD
TZOFFSETFROM:-0500
TZOFFSETTO:-0600
TZNAME:CST
DTSTART:20251102T070000
END:STANDARD
BEGIN:DAYLIGHT
TZOFFSETFROM:-0600
TZOFFSETTO:-0500
TZNAME:CDT
DTSTART:20260308T080000
END:DAYLIGHT
BEGIN:STANDARD
TZOFFSETFROM:-0500
TZOFFSETTO:-0600
TZNAME:CST
DTSTART:20261101T070000
END:STANDARD
BEGIN:DAYLIGHT
TZOFFSETFROM:-0600
TZOFFSETTO:-0500
TZNAME:CDT
DTSTART:20270314T080000
END:DAYLIGHT
BEGIN:STANDARD
TZOFFSETFROM:-0500
TZOFFSETTO:-0600
TZNAME:CST
DTSTART:20271107T070000
END:STANDARD
END:VTIMEZONE
BEGIN:VEVENT
DTSTART;TZID=America/Chicago:20260416T130000
DTEND;TZID=America/Chicago:20260416T150000
DTSTAMP:20260425T091723
CREATED:20251222T211710Z
LAST-MODIFIED:20251222T211710Z
UID:23854-1776344400-1776351600@www.ohfa.org
SUMMARY:Blue Ribbon Agent Training
DESCRIPTION:Oklahoma real estate professionals who complete OHFA’s free Oklahoma Real Estate Commission course earn the OHFA Blue Ribbon Agent designation.
URL:https://www.ohfa.org/event/blue-ribbon-agent-training-2/
LOCATION:Oklahoma Housing Finance Agency East and West Board Room\, 100 NW 63rd\, Oklahoma City\, OK\, 73116\, United States
CATEGORIES:Blue Ribbon Agent Training
ATTACH;FMTTYPE=image/png:https://www.ohfa.org/wp-content/uploads/2024/12/brr-training-series-2-1.png
END:VEVENT
BEGIN:VEVENT
DTSTART;TZID=America/Chicago:20260122T130000
DTEND;TZID=America/Chicago:20260122T150000
DTSTAMP:20260425T091723
CREATED:20251222T211458Z
LAST-MODIFIED:20260120T210340Z
UID:23853-1769086800-1769094000@www.ohfa.org
SUMMARY:Canceled: Blue Ribbon Agent Training
DESCRIPTION:Oklahoma real estate professionals who complete OHFA’s free Oklahoma Real Estate Commission course earn the OHFA Blue Ribbon Agent designation. \n  \n 
URL:https://www.ohfa.org/event/blue-ribbon-agent-training/
LOCATION:Oklahoma Housing Finance Agency East and West Board Room\, 100 NW 63rd\, Oklahoma City\, OK\, 73116\, United States
CATEGORIES:Blue Ribbon Agent Training
ATTACH;FMTTYPE=image/png:https://www.ohfa.org/wp-content/uploads/2024/12/brr-training-series-2-1.png
END:VEVENT
BEGIN:VEVENT
DTSTART;TZID=America/Chicago:20251210T130000
DTEND;TZID=America/Chicago:20251210T150000
DTSTAMP:20260425T091723
CREATED:20241220T152019Z
LAST-MODIFIED:20250821T193021Z
UID:22261-1765371600-1765378800@www.ohfa.org
SUMMARY:OHFA Blue Ribbon Agent Training
DESCRIPTION:Earn two hours of continuing education credits while learning about OHFA’s Down Payment and Closing Cost Assistance. \nFor more than four decades\, Oklahoma Housing Finance Agency (OHFA) has provided down payment assistance to Oklahoma homebuyers. \nIn this free course\, we’ll share how down payment and/or closing cost assistance makes buying a home more affordable to both first-time and repeat buyers across the state. This course is approved for two hours of continuing education credit as a finance elective with the Oklahoma Real Estate Commission. \nUpon completion\, you will be an OHFA Blue Ribbon Agent. Your name\, company name\, and contact information will be placed on the OHFA website in a searchable database. This listing highlights your knowledge of down payment assistance products.
URL:https://www.ohfa.org/event/ohfa-blue-ribbon-realtors-training-4/
LOCATION:Oklahoma Housing Finance Agency East and West Board Room\, 100 NW 63rd\, Oklahoma City\, OK\, 73116\, United States
CATEGORIES:Blue Ribbon Agent Training,Homeownership,Single Family,Training
ATTACH;FMTTYPE=image/png:https://www.ohfa.org/wp-content/uploads/2024/12/brr-training-series-2.png
END:VEVENT
BEGIN:VEVENT
DTSTART;TZID=America/Chicago:20250911T130000
DTEND;TZID=America/Chicago:20250911T150000
DTSTAMP:20260425T091723
CREATED:20241220T150604Z
LAST-MODIFIED:20250903T231456Z
UID:22260-1757595600-1757602800@www.ohfa.org
SUMMARY:OHFA Blue Ribbon Agent Training
DESCRIPTION:Earn two hours of continuing education credits while learning about OHFA’s Down Payment and Closing Cost Assistance. \nFor more than four decades\, Oklahoma Housing Finance Agency (OHFA) has provided down payment assistance to Oklahoma homebuyers. \nIn this free course\, we’ll share how down payment and/or closing cost assistance makes buying a home more affordable to both first-time and repeat buyers across the state. This course is approved for two hours of continuing education credit as a finance elective with the Oklahoma Real Estate Commission. \nUpon completion\, you will be an OHFA Blue Ribbon Agent. Your name\, company name\, and contact information will be placed on the OHFA website in a searchable database. This listing highlights your knowledge of down payment assistance products.
URL:https://www.ohfa.org/event/ohfa-blue-ribbon-agent-training-3/
LOCATION:Oklahoma Housing Finance Agency East and West Board Room\, 100 NW 63rd\, Oklahoma City\, OK\, 73116\, United States
CATEGORIES:Blue Ribbon Agent Training,Homeownership,Single Family,Training
ATTACH;FMTTYPE=image/png:https://www.ohfa.org/wp-content/uploads/2024/12/brr-training-series-2.png
END:VEVENT
BEGIN:VEVENT
DTSTART;TZID=America/Chicago:20250612T130000
DTEND;TZID=America/Chicago:20250612T150000
DTSTAMP:20260425T091723
CREATED:20241219T214731Z
LAST-MODIFIED:20250612T145922Z
UID:22259-1749733200-1749740400@www.ohfa.org
SUMMARY:OHFA Blue Ribbon Real Estate Agent Training
DESCRIPTION:Earn two hours of continuing education credits while learning about OHFA’s Down Payment and Closing Cost Assistance. \nFor more than four decades\, Oklahoma Housing Finance Agency (OHFA) has provided down payment assistance to Oklahoma homebuyers. \nIn this free course\, we’ll share how down payment and/or closing cost assistance makes buying a home more affordable to both first-time and repeat buyers across the state. This course is approved for two hours of continuing education credit as a finance elective with the Oklahoma Real Estate Commission. \nUpon completion\, you will be an OHFA Blue Ribbon Real Estate Agent. Your name\, company name\, and contact information will be placed on the OHFA website in a searchable database. This listing highlights your knowledge of down payment assistance products.
URL:https://www.ohfa.org/event/ohfa-blue-ribbon-realtors-training-2/
LOCATION:Oklahoma Housing Finance Agency East and West Board Room\, 100 NW 63rd\, Oklahoma City\, OK\, 73116\, United States
CATEGORIES:Blue Ribbon Agent Training,Homeownership,Single Family,Training
ATTACH;FMTTYPE=image/png:https://www.ohfa.org/wp-content/uploads/2024/12/brr-training-series-2.png
END:VEVENT
BEGIN:VEVENT
DTSTART;TZID=America/Chicago:20250313T130000
DTEND;TZID=America/Chicago:20250313T150000
DTSTAMP:20260425T091723
CREATED:20241216T154853Z
LAST-MODIFIED:20250307T233053Z
UID:22229-1741870800-1741878000@www.ohfa.org
SUMMARY:OHFA Blue Ribbon Realtors Training
DESCRIPTION:Earn two hours of continuing education credits while learning about OHFA’s Down Payment and Closing Cost Assistance. \nFor more than four decades\, Oklahoma Housing Finance Agency (OHFA) has provided down payment assistance to Oklahoma homebuyers. \nIn this free course\, we’ll share how down payment and/or closing cost assistance makes buying a home more affordable to both first-time and repeat buyers across the state. This course is approved for two hours of continuing education credit as a finance elective with the Oklahoma Real Estate Commission. \nUpon completion\, you will be an OHFA Blue Ribbon Realtor. Your name\, company name\, and contact information will be placed on the OHFA website in a searchable database. This listing highlights your knowledge of down payment assistance products.
URL:https://www.ohfa.org/event/ohfa-blue-ribbon-realtors-training-march2025/
LOCATION:Oklahoma Housing Finance Agency East and West Board Room\, 100 NW 63rd\, Oklahoma City\, OK\, 73116\, United States
CATEGORIES:Blue Ribbon Agent Training,Homeownership,Single Family,Training
ATTACH;FMTTYPE=image/png:https://www.ohfa.org/wp-content/uploads/2024/12/brr-training-series-2.png
END:VEVENT
BEGIN:VEVENT
DTSTART;TZID=America/Chicago:20241204T130000
DTEND;TZID=America/Chicago:20241204T150000
DTSTAMP:20260425T091723
CREATED:20231221T150541Z
LAST-MODIFIED:20231221T150541Z
UID:20752-1733317200-1733324400@www.ohfa.org
SUMMARY:Blue Ribbon Realtors Continuing Education Class
DESCRIPTION:In this course\, we’ll share how down payment and/or closing cost assistance makes buying a home more affordable to both first-time and repeat buyers across the state. This course is approved for two hours of continuing education credit as a finance elective with the Oklahoma Real Estate Commission. \nEach session is limited to 35 attendees. Register today! \nUpon completion\, you will be an OHFA Blue Ribbon Realtor. Your name\, company name\, and contact information will be placed on the OHFA website in a searchable database. This listing highlights your knowledge of down payment assistance products. \nIn 2024\, OHFA will host this class March 14\, June 13\, September 12 and December 4. \nReserve your free seat.
URL:https://www.ohfa.org/event/blue-ribbon-realtors-continuing-education-class-4/
LOCATION:Oklahoma Housing Finance Agency East and West Board Room\, 100 NW 63rd\, Oklahoma City\, OK\, 73116\, United States
CATEGORIES:Blue Ribbon Agent Training
ATTACH;FMTTYPE=image/png:https://www.ohfa.org/wp-content/uploads/2023/03/BRR-class.png
END:VEVENT
BEGIN:VEVENT
DTSTART;TZID=America/Chicago:20240912T130000
DTEND;TZID=America/Chicago:20240912T150000
DTSTAMP:20260425T091723
CREATED:20231221T150350Z
LAST-MODIFIED:20231221T150350Z
UID:20751-1726146000-1726153200@www.ohfa.org
SUMMARY:Blue Ribbon Realtors Continuing Education Class
DESCRIPTION:In this course\, we’ll share how down payment and/or closing cost assistance makes buying a home more affordable to both first-time and repeat buyers across the state. This course is approved for two hours of continuing education credit as a finance elective with the Oklahoma Real Estate Commission. \nEach session is limited to 35 attendees. Register today! \nUpon completion\, you will be an OHFA Blue Ribbon Realtor. Your name\, company name\, and contact information will be placed on the OHFA website in a searchable database. This listing highlights your knowledge of down payment assistance products. \nIn 2024\, OHFA will host this class March 14\, June 13\, September 12 and December 4. \nReserve your free seat.
URL:https://www.ohfa.org/event/blue-ribbon-realtors-continuing-education-class-3/
LOCATION:Oklahoma Housing Finance Agency East and West Board Room\, 100 NW 63rd\, Oklahoma City\, OK\, 73116\, United States
CATEGORIES:Blue Ribbon Agent Training
ATTACH;FMTTYPE=image/png:https://www.ohfa.org/wp-content/uploads/2023/03/BRR-class.png
END:VEVENT
BEGIN:VEVENT
DTSTART;TZID=America/Chicago:20240613T130000
DTEND;TZID=America/Chicago:20240613T150000
DTSTAMP:20260425T091723
CREATED:20231221T150008Z
LAST-MODIFIED:20231221T150008Z
UID:20750-1718283600-1718290800@www.ohfa.org
SUMMARY:Blue Ribbon Realtors Continuing Education Class
DESCRIPTION:In this course\, we’ll share how down payment and/or closing cost assistance makes buying a home more affordable to both first-time and repeat buyers across the state. This course is approved for two hours of continuing education credit as a finance elective with the Oklahoma Real Estate Commission. \nEach session is limited to 35 attendees. Register today! \nUpon completion\, you will be an OHFA Blue Ribbon Realtor. Your name\, company name\, and contact information will be placed on the OHFA website in a searchable database. This listing highlights your knowledge of down payment assistance products. \nIn 2024\, OHFA will host this class March 14\, June 13\, September 12\, and December 4. \nReserve your free seat
URL:https://www.ohfa.org/event/blue-ribbon-realtors-continuing-education-class-2/
LOCATION:Oklahoma Housing Finance Agency East and West Board Room\, 100 NW 63rd\, Oklahoma City\, OK\, 73116\, United States
CATEGORIES:Blue Ribbon Agent Training
ATTACH;FMTTYPE=image/png:https://www.ohfa.org/wp-content/uploads/2023/03/BRR-class.png
END:VEVENT
BEGIN:VEVENT
DTSTART;TZID=America/Chicago:20240314T130000
DTEND;TZID=America/Chicago:20240314T150000
DTSTAMP:20260425T091723
CREATED:20231221T145639Z
LAST-MODIFIED:20231221T145639Z
UID:20749-1710421200-1710428400@www.ohfa.org
SUMMARY:Blue Ribbon Realtors Continuing Education Class
DESCRIPTION:In this course\, we’ll share how down payment and/or closing cost assistance makes buying a home more affordable to both first-time and repeat buyers across the state. This course is approved for two hours of continuing education credit as a finance elective with the Oklahoma Real Estate Commission. \nEach session is limited to 35 attendees. Register today! \nUpon completion\, you will be an OHFA Blue Ribbon Realtor. Your name\, company name\, and contact information will be placed on the OHFA website in a searchable database. This listing highlights your knowledge of down payment assistance products. \nIn 2024\, OHFA will host this class March 14\, June 13\, September 12\, and December 4. \nReserve your free seat
URL:https://www.ohfa.org/event/blue-ribbon-realtors-continuing-education-class/
LOCATION:Oklahoma Housing Finance Agency East and West Board Room\, 100 NW 63rd\, Oklahoma City\, OK\, 73116\, United States
CATEGORIES:Blue Ribbon Agent Training
ATTACH;FMTTYPE=image/png:https://www.ohfa.org/wp-content/uploads/2023/03/BRR-class.png
END:VEVENT
BEGIN:VEVENT
DTSTART;TZID=America/Chicago:20230824T080000
DTEND;TZID=America/Chicago:20230824T170000
DTSTAMP:20260425T091723
CREATED:20230824T195640Z
LAST-MODIFIED:20230824T195640Z
UID:20138-1692864000-1692896400@www.ohfa.org
SUMMARY:Blue Ribbon Realtor Continuing Education Training
DESCRIPTION:Earn two hours of continuing education credits while learning about OHFA’s Down Payment and Closing Cost Assistance. \nFor more than four decades\, Oklahoma Housing Finance Agency (OHFA) has provided down payment assistance to Oklahoma homebuyers. \nIn this free course\, we’ll share how down payment and/or closing cost assistance makes buying a home more affordable to both first-time and repeat buyers across the state. This course is approved for two hours of continuing education credit as a finance elective with the Oklahoma Real Estate Commission. \nUpon completion\, you will be an OHFA Blue Ribbon Realtor. Your name\, company name\, and contact information will be placed on the OHFA website in a searchable database. This listing highlights your knowledge of down payment assistance products. \nHosted by AMC Mortgage and Keller Williams Realty Premier Owasso/Claremore
URL:https://www.ohfa.org/event/blue-ribbon-realtor-continuing-education-training/
LOCATION:Keller Williams Realty Premier\, 13315 E 112th St N\, Ste 100\, Owasso\, OK\, United States
CATEGORIES:Blue Ribbon Agent Training,Single Family
ATTACH;FMTTYPE=image/png:https://www.ohfa.org/wp-content/uploads/2022/07/Realtor-Workshops-FB-Event-3.png
ORGANIZER;CN="Carol Twist-Leonard":MAILTO:ctwist@amcmtg.com
END:VEVENT
END:VCALENDAR