BEGIN:VCALENDAR
VERSION:2.0
PRODID:-//Oklahoma Housing Finance Agency - ECPv6.15.20//NONSGML v1.0//EN
CALSCALE:GREGORIAN
METHOD:PUBLISH
X-WR-CALNAME:Oklahoma Housing Finance Agency
X-ORIGINAL-URL:https://www.ohfa.org
X-WR-CALDESC:Events for Oklahoma Housing Finance Agency
REFRESH-INTERVAL;VALUE=DURATION:PT1H
X-Robots-Tag:noindex
X-PUBLISHED-TTL:PT1H
BEGIN:VTIMEZONE
TZID:America/Chicago
BEGIN:DAYLIGHT
TZOFFSETFROM:-0600
TZOFFSETTO:-0500
TZNAME:CDT
DTSTART:20210314T080000
END:DAYLIGHT
BEGIN:STANDARD
TZOFFSETFROM:-0500
TZOFFSETTO:-0600
TZNAME:CST
DTSTART:20211107T070000
END:STANDARD
BEGIN:DAYLIGHT
TZOFFSETFROM:-0600
TZOFFSETTO:-0500
TZNAME:CDT
DTSTART:20220313T080000
END:DAYLIGHT
BEGIN:STANDARD
TZOFFSETFROM:-0500
TZOFFSETTO:-0600
TZNAME:CST
DTSTART:20221106T070000
END:STANDARD
BEGIN:DAYLIGHT
TZOFFSETFROM:-0600
TZOFFSETTO:-0500
TZNAME:CDT
DTSTART:20230312T080000
END:DAYLIGHT
BEGIN:STANDARD
TZOFFSETFROM:-0500
TZOFFSETTO:-0600
TZNAME:CST
DTSTART:20231105T070000
END:STANDARD
BEGIN:DAYLIGHT
TZOFFSETFROM:-0600
TZOFFSETTO:-0500
TZNAME:CDT
DTSTART:20240310T080000
END:DAYLIGHT
BEGIN:STANDARD
TZOFFSETFROM:-0500
TZOFFSETTO:-0600
TZNAME:CST
DTSTART:20241103T070000
END:STANDARD
BEGIN:DAYLIGHT
TZOFFSETFROM:-0600
TZOFFSETTO:-0500
TZNAME:CDT
DTSTART:20250309T080000
END:DAYLIGHT
BEGIN:STANDARD
TZOFFSETFROM:-0500
TZOFFSETTO:-0600
TZNAME:CST
DTSTART:20251102T070000
END:STANDARD
BEGIN:DAYLIGHT
TZOFFSETFROM:-0600
TZOFFSETTO:-0500
TZNAME:CDT
DTSTART:20260308T080000
END:DAYLIGHT
BEGIN:STANDARD
TZOFFSETFROM:-0500
TZOFFSETTO:-0600
TZNAME:CST
DTSTART:20261101T070000
END:STANDARD
END:VTIMEZONE
BEGIN:VEVENT
DTSTART;TZID=America/Chicago:20250820T100000
DTEND;TZID=America/Chicago:20250820T120000
DTSTAMP:20260422T073529
CREATED:20250625T162123Z
LAST-MODIFIED:20250721T214250Z
UID:23023-1755684000-1755691200@www.ohfa.org
SUMMARY:2026 QAP Formal Input Session
DESCRIPTION:The Formal Public Input Session for the 2026 Qualified Allocation Plan (QAP) will be held on Wednesday August 20\, 2025 from 10:00 AM – 12:00 PM CST at the Oklahoma Housing Finance Agency\, 100 Northwest 63rd Street\, Board Room East and West\, Oklahoma City\, Oklahoma 73116.   \nWe will be covering the first draft of the 2026 QAP. \nThe First Draft of the 2026 Tax Credit Qualified Allocation Plan (QAP) has been posted to the OHFA website. \nFirst Draft – 2026 QAP \nPlease submit any comments\, ideas\, suggestions\, or observations you have for the 2026 Tax Credit Qualified Allocation Plan (“QAP”) via email to corey.bornemann@ohfa.org and emily.myers@ohfa.org by 12:00 PM on Friday\, August 1. \n2026 QAP Approval Timeline \n\nA second draft of the 2026 QAP will be posted by August 11. Comments on this second draft will be accepted through 5:00 p.m. August 20.\nThe Formal Public Input Session for the 2026 QAP will be held on Wednesday August 20 at 10 a.m.at the Oklahoma Housing Finance Agency\, 100 Northwest 63rd Street\, Board Room East and West\, Oklahoma City\, Oklahoma 73116.\nA final draft of the proposed changes to the 2026 QAP will be posted on September 1.\nThis final draft will be taken to the September 24 Trustees meeting for approval.\n\n 
URL:https://www.ohfa.org/event/2026-qap-formal-input-session/
LOCATION:Oklahoma Housing Finance Agency East and West Board Room\, 100 NW 63rd\, Oklahoma City\, OK\, 73116\, United States
CATEGORIES:Affordable Housing Tax Credits,LIHTC,QAP
ATTACH;FMTTYPE=image/png:https://www.ohfa.org/wp-content/uploads/2023/07/landlord-meeting.png
END:VEVENT
BEGIN:VEVENT
DTSTART;TZID=America/Chicago:20240326T100000
DTEND;TZID=America/Chicago:20240328T160000
DTSTAMP:20260422T073529
CREATED:20240215T162559Z
LAST-MODIFIED:20240215T162559Z
UID:20982-1711447200-1711641600@www.ohfa.org
SUMMARY:Conquering Low Income Housing Tax Credit - Optional HCCP Exam
DESCRIPTION:16.5 hours of training will be conducted by Gary Kirkman of US Housing Consultants\, March 26-28 \nThis 16.5-hour comprehensive ONLINE course is spread out over three days and specifically designed to assist affordable housing professionals in conquering tax credit compliance! Gary will delve deep into the tax credit regulations while providing real-world examples with practical applications. \nTraining will be conducted in accordance with HOTMA regulations. \nTraining Flyer \nRegistration and Complete Course Description on the Flyer \nEarly Bird Registration before March 18 – $550 \nAfter March 18 – $650 \nTake 20% off the cost of the class by using the\nDiscount Code OKlahoma20_24 at checkout!
URL:https://www.ohfa.org/event/conquering-low-income-housing-tax-credit-optional-hccp-exam/
LOCATION:Virtual\, OK\, United States
CATEGORIES:Affordable Housing Tax Credits,Housing Development,Training
ATTACH;FMTTYPE=image/png:https://www.ohfa.org/wp-content/uploads/2023/03/webinar-1.png
ORGANIZER;CN="US Housing Consultants":MAILTO:gkirkman@us-hc.com
END:VEVENT
BEGIN:VEVENT
DTSTART;TZID=America/Chicago:20230926T100000
DTEND;TZID=America/Chicago:20230928T160000
DTSTAMP:20260422T073529
CREATED:20230802T184104Z
LAST-MODIFIED:20230802T184127Z
UID:20097-1695722400-1695916800@www.ohfa.org
SUMMARY:Conquering LIHTC Compliance & HCCP Exam (Virtual Training)
DESCRIPTION:Created by Amanda Lee Gross\, VP of Training and Compliance Policy\, the “Conquering Low Income Housing Tax Credit (LIHTC) Compliance” is a three-day\, 16.5-hour virtual course specially designed to assist affordable housing professionals in conquering LIHTC project compliance. \nUS Housing Consultant’s Director of Compliance Training\, Gary Kirkman\, delves deep into the Low-Income Housing Tax Credit laws and regulations\, while also providing real-world examples with practical application. This engaging and interactive session utilizes numerous examples and exercises to ensure attendees complete the session with a thorough comprehension of how to maintain project compliance and why it is so important to do so. \nAttendees will have the opportunity to take an optional Housing Certified Compliance Professional (HCCP) Exam. \nRegistration and More Information
URL:https://www.ohfa.org/event/conquering-lihtc-compliance-hccp-exam-virtual-training/
LOCATION:Virtual\, OK\, United States
CATEGORIES:Affordable Housing Tax Credits,Training
ATTACH;FMTTYPE=image/png:https://www.ohfa.org/wp-content/uploads/2023/03/webinar-1.png
ORGANIZER;CN="US Housing Consultants":MAILTO:gkirkman@us-hc.com
END:VEVENT
BEGIN:VEVENT
DTSTART;TZID=America/Chicago:20230817T100000
DTEND;TZID=America/Chicago:20230817T120000
DTSTAMP:20260422T073529
CREATED:20230802T153258Z
LAST-MODIFIED:20230802T153258Z
UID:20089-1692266400-1692273600@www.ohfa.org
SUMMARY:Formal Input Session: 2024 Qualified Allocation Plan (QAP)
DESCRIPTION:The second draft of Oklahoma Housing Finance Agency’s 2024 Affordable Housing Tax Credits Qualified Allocation Plan (QAP) has been posted to the OHFA website. \nView and download the PDF of the draft application with redline: \n2024 QAP 2nd Draft \nComments on this second draft\, posted August 1\, will be accepted via our online discussion forum through August 17. Please follow the instructions for posting and commenting on threads. An account is required. It is a public forum. If you are having any difficulty\, or have any questions\, please contact Corey Bornemann at corey.bornemann@ohfa.org
URL:https://www.ohfa.org/event/formal-input-session-2024-qualified-allocation-plan-qap/
LOCATION:Oklahoma Housing Finance Agency East and West Board Room\, 100 NW 63rd\, Oklahoma City\, OK\, 73116\, United States
CATEGORIES:Affordable Housing Tax Credits,LIHTC,QAP
ATTACH;FMTTYPE=image/png:https://www.ohfa.org/wp-content/uploads/2023/blueprint-1.png
END:VEVENT
BEGIN:VEVENT
DTSTART;TZID=America/Chicago:20230503T120000
DTEND;TZID=America/Chicago:20230503T140000
DTSTAMP:20260422T073529
CREATED:20230404T131336Z
LAST-MODIFIED:20230404T132915Z
UID:19418-1683115200-1683122400@www.ohfa.org
SUMMARY:What's Next for REAC Inspections - Webinar
DESCRIPTION:Learn about the new HUD NSPIRE standards. These requirements will replace all existing inspection standards in the fall. \nJoin Scott Precourt of US Housing Consultants to discuss the coming changes and challenges of the NSPIRE reforms. In this session\, he will discuss: \n\nNew NSPIRE Scoring Methodology\nA Crosswalk Review of Changes from HQS and UPCS to NSPIRE\nPractical Examples of Differences in Inspection Standards and Methods\nNew Design Requirement Standards\nHow to Integrate NSPIRE into Internal Self-Inspections\nImpact of NSPIRE Changes on HOME\, LIHTC\, and other Programs\n\nCost: $150
URL:https://www.ohfa.org/event/whats-next-for-reac-inspections-webinar/
LOCATION:Webinar
CATEGORIES:Affordable Housing Tax Credits,HOME Investment Partnerships Program,LIHTC,Training
ATTACH;FMTTYPE=image/jpeg:https://www.ohfa.org/wp-content/uploads/2021/03/training.jpg
ORGANIZER;CN="US Housing Consultants":MAILTO:gkirkman@us-hc.com
END:VEVENT
BEGIN:VEVENT
DTSTART;TZID=America/Chicago:20230502T130000
DTEND;TZID=America/Chicago:20230502T150000
DTSTAMP:20260422T073529
CREATED:20230404T132631Z
LAST-MODIFIED:20230404T132747Z
UID:19419-1683032400-1683039600@www.ohfa.org
SUMMARY:5 Session HOME Rental Housing Compliance w/Exam - Webinar
DESCRIPTION:Ongoing HOME Rental Housing Compliance w/Exam is the 5-session training with the examination during the 5th session. \nThe training will be held virtually over five sessions May 2\, 4\, 9\, 11\, 12\, 2023 with an exam on May 12\, 2023 (see below). The time for each training will be held 2:00pm-4:00pm Eastern. \n  \nCost is $495
URL:https://www.ohfa.org/event/5-session-home-rental-housing-compliance/
LOCATION:Webinar
CATEGORIES:Affordable Housing Tax Credits,HOME Investment Partnerships Program,Training
ATTACH;FMTTYPE=image/png:https://www.ohfa.org/wp-content/uploads/2021/03/online-meeting.png
END:VEVENT
BEGIN:VEVENT
DTSTART;TZID=America/Chicago:20230328T083000
DTEND;TZID=America/Chicago:20230329T163000
DTSTAMP:20260422T073529
CREATED:20230118T152005Z
LAST-MODIFIED:20230213T195550Z
UID:18998-1679992200-1680107400@www.ohfa.org
SUMMARY:LIHTC Spring Training
DESCRIPTION:Affordable Housing Providers of Oklahoma has contracted with US Housing Consultants\, Inc.\, featuring Gary Kirkman\, Director of Compliance Training\, to co-sponsor with Oklahoma Housing Finance Agency two RD/LIHTC classes and the HCCP (Housing Credit Certified Professional) Certification program for affordable housing providers/managers/staff. \nWhen: Tuesday\, March 28th\, 2023\nManaging RD/LIHTC Compliance Workshop $75 AHPOK Members\n*$275 for Non- AHPOK Members\nWednesday\, March 29\, 2023\nLIHTC Advanced Compliance Workshop $75 AHPOK Members\n*$275 for Non-AHPOK Members\nThe test will be given online at a later date. \nWhere: Francis Tuttle Technology Center – Rockwell Campus\nCampus Center\, Zone A\, Room A 1011\n12777 N. Rockwell Avenue\nOklahoma City\, OK 73142 \nRegistration Form and More Information
URL:https://www.ohfa.org/event/lihtc-spring-training/
LOCATION:Francis Tuttle Technology Center – Rockwell Campus\, 12777 N. Rockwell Ave.\, Oklahoma City\, OK\, 73142\, United States
CATEGORIES:Affordable Housing Tax Credits,Training
ATTACH;FMTTYPE=image/png:https://www.ohfa.org/wp-content/uploads/2023/01/workshop.png
ORGANIZER;CN="AFFORDABLE HOUSING PROVIDERS OF OKLAHOMA":MAILTO:office.ahpok@gmail.com
END:VEVENT
BEGIN:VEVENT
DTSTART;TZID=America/Chicago:20221020T090000
DTEND;TZID=America/Chicago:20221020T110000
DTSTAMP:20260422T073529
CREATED:20221005T184951Z
LAST-MODIFIED:20221005T204532Z
UID:18565-1666256400-1666263600@www.ohfa.org
SUMMARY:Training: 2023 QAP Application
DESCRIPTION:Oklahoma Housing Finance Agency’s Qualified Allocation Plan (QAP) sets the state’s eligibility priorities and criteria for awarding tax credits. OHFA has made revisions with regards to storm shelters and how State Tax Credits will be allocated in 2023 that were discussed at the September 21\, 2022 OHFA Board of Trustees Meeting. \nVisit the OHFA website to review the final version of the QAP. \n2023 QAP Application Training will be held Thursday\, October 20 beginning at 9 a.m. at the Holiday Inn and Suites\, 6200 N. Robinson\, Oklahoma City.
URL:https://www.ohfa.org/event/training-2023-qap-application/
LOCATION:Holiday Inn & Suites\, 6200 N. Robinson.\, Oklahoma City\, OK\, 73118\, United States
CATEGORIES:Affordable Housing Tax Credits,Housing Development,Training
ATTACH;FMTTYPE=image/jpeg:https://www.ohfa.org/wp-content/uploads/2021/08/coweta-exterior-scaled.jpg
END:VEVENT
BEGIN:VEVENT
DTSTART;TZID=America/Chicago:20220817T090000
DTEND;TZID=America/Chicago:20220817T120000
DTSTAMP:20260422T073529
CREATED:20220714T200657Z
LAST-MODIFIED:20220812T144525Z
UID:18232-1660726800-1660737600@www.ohfa.org
SUMMARY:2023 QAP: Formal Input Session
DESCRIPTION:The Formal Public Input Session for the 2023 QAP will be held Wednesday\, August 17  from 9:00 a.m. – 12:00 p.m. at the Holiday Inn Oklahoma City North\, 6200 N. Robinson\, Oklahoma City\, Oklahoma 73118.  \nDrafts of the Oklahoma Housing Finance Agency’s 2023 Affordable Housing Tax Credits Qualified Allocation Plan (QAP) have been posted to the OHFA website. \n\nA final draft of the proposed changes to the 2023 Application will be posted on August 24.\nThe finalized Application will be taken to the September 21 Trustees meeting for approval.\nThe 2023 Application training session will be held in October. The exact date and format will be determined at a later time.
URL:https://www.ohfa.org/event/2023-qap-formal-input-session/
LOCATION:Holiday Inn & Suites\, 6200 N. Robinson.\, Oklahoma City\, OK\, 73118\, United States
CATEGORIES:Affordable Housing Tax Credits,Housing Development
ATTACH;FMTTYPE=image/png:https://www.ohfa.org/wp-content/uploads/2021/06/public-notice.png
END:VEVENT
BEGIN:VEVENT
DTSTART;TZID=America/Chicago:20220809T080000
DTEND;TZID=America/Chicago:20220812T120000
DTSTAMP:20260422T073529
CREATED:20220427T212258Z
LAST-MODIFIED:20220729T145651Z
UID:17935-1660032000-1660305600@www.ohfa.org
SUMMARY:Tax Credit Comprehensives Webinar/Optional HCCP Exam
DESCRIPTION:Training will be conducted by Costello Compliance. \nHousing funded through the Low Income Housing Tax Credit (LIHTC) program is an important part of the nation’s housing stock. This webinar series provides in-depth coverage of the compliance rules that must be followed by managers and owners of LIHTC multi-family housing. \nFour sessions of 4 hours each on Tuesday through Friday. \nHCCP Option | All of the testable areas in the Housing Credit Compliance Professional (HCCP) Exam will be covered. The exam will be available online for attendees to take at their convenience within 5 days of the last session. \nLearn more about the HCCP HERE.
URL:https://www.ohfa.org/event/low-income-housing-tax-credit-webinar-optional-hccp-exam/
LOCATION:Virtual\, OK\, United States
CATEGORIES:Affordable Housing Tax Credits,Housing Development,LIHTC,Training
ATTACH;FMTTYPE=image/jpeg:https://www.ohfa.org/wp-content/uploads/2021/03/training.jpg
END:VEVENT
BEGIN:VEVENT
DTSTART;TZID=America/Chicago:20220324T123000
DTEND;TZID=America/Chicago:20220324T153000
DTSTAMP:20260422T073529
CREATED:20220322T131913Z
LAST-MODIFIED:20220322T131913Z
UID:17800-1648125000-1648135800@www.ohfa.org
SUMMARY:Qualified Allocation Plan Task Force Input Session
DESCRIPTION:This input session\, coordinated by the Oklahoma Coalition of Affordable Housing\, is open to anyone who would like to discuss and provide feedback regarding the 2023 Low Income Housing Tax Credit QAP. \nRegister
URL:https://www.ohfa.org/event/qualified-allocation-plan-task-force-input-session/
LOCATION:Holiday Inn & Suites\, 6200 N. Robinson.\, Oklahoma City\, OK\, 73118\, United States
CATEGORIES:Affordable Housing Tax Credits,Housing Development,LIHTC,QAP
ATTACH;FMTTYPE=image/png:https://www.ohfa.org/wp-content/uploads/2021/06/input-.png
END:VEVENT
END:VCALENDAR